BEGIN:VCALENDAR
VERSION:2.0
PRODID:Spatie calendar-links
BEGIN:VEVENT
UID:mlp_6933
SUMMARY:Křest knihy Česká touha
DTSTAMP:20260429T150000Z
DTSTART:20260429T150000Z
DTEND:20260429T170000Z
DESCRIPTION:Zveme vás na křest knihy Česká touha - naše sexualita v příbězích a souvislostech. Autorka Hana Vacková\, novinářka a zakladatelka Sexinteligence.cz\, otevírá téma toho\, jak rozmanitě lidé prožívají intimitu\, co formuje jejich zkušenosti a proč je často obtížné o nich mluvit. Kniha přináší otevřené příběhy i odborné vhledy\, které pomáhají lépe porozumět sobě\, svým vztahům a tomu\, co hledáme.
LOCATION:Velký mlýn
URL;VALUE=URI:https://www.mlp.cz/cz/akce/krest-knihy-ceska-touha/6933
END:VEVENT
END:VCALENDAR