BEGIN:VCALENDAR
VERSION:2.0
PRODID:Spatie calendar-links
BEGIN:VEVENT
UID:mlp_6953
SUMMARY:Zeměplošské čarodějky
DTSTAMP:20260521T150000Z
DTSTART:20260521T150000Z
DTEND:20260521T170000Z
DESCRIPTION:Magie\, hlavologie a trocha toho léčení\nČarodějnictví je na Zeměploše sice neobvyklým\, ale naprosto nezbytným řemeslem. Zatímco mágové se utápějí v teorii a rituálech\, čarodějky sázejí na magii\, která je přirozená\, praktická a – co je nejdůležitější – funguje. Být čarodějkou totiž neznamená jen mávání hůlkou (kterou stejně málokdy mají)\, ale především ovládnutí umění hlavologie a schopnost poradit si tam\, kde ostatní selhávají.\nPřijďte na besedu s členy Klubu Terryho Pratchetta a zjistěte\, co všechno musí správná čarodějka splňovat. Představíme vám legendy oboru: od nekompromisní tradicionalistky Bábi Zlopočasné až po mladou a odhodlanou Toničku Bolavou. Dozvíte se\, proč každá vesnice v horách Beraní hlavy potřebuje svou čarodějku stejně jako my praktického lékaře – a že léčení neduhů je někdy ta největší magie.\nAkce je pořádána ve spolupráci s Klubem Terryho Pratchetta.\nAutorem ilustračního obrázku je Gabriela Goffová.
LOCATION:Vozovna
URL;VALUE=URI:https://www.mlp.cz/cz/akce/zemeplosske-carodejky/6953
END:VEVENT
END:VCALENDAR