BEGIN:VCALENDAR
VERSION:2.0
PRODID:Spatie calendar-links
BEGIN:VEVENT
UID:mlp_6955
SUMMARY:Nejstarší pražský zvon
DTSTAMP:20260512T140000Z
DTSTART:20260512T140000Z
DTEND:20260512T153000Z
DESCRIPTION:Přednáška s promítáním z cyklu Pražské úterky\nNejstarší pražský zvon z roku 1313 se stal\, podle tradice\, obětí požáru Staroměstské radnice v posledních hodinách pražského povstání. Skutečnost je však složitější. V roce 2025 byly fragmenty uložené ve sbírkách Muzea města Prahy prozkoumány ve spolupráci se zvonařem Petrem R. Manouškem. O projektu\, který odhalil nové skutečnosti o osudu zvonu\, promluví historička Jana Bělová.\nPozor! Je třeba si rezervovat místo na telefonním čísle +420 222 113 555 nebo osobně v pobočce.
LOCATION:Ústřední knihovna (Klubovna)
URL;VALUE=URI:https://www.mlp.cz/cz/akce/nejstarsi-prazsky-zvon/6955
END:VEVENT
END:VCALENDAR