BEGIN:VCALENDAR
VERSION:2.0
PRODID:Spatie calendar-links
BEGIN:VEVENT
UID:mlp_6971
SUMMARY:Tvoříme titulní stranu rodinného alba či kroniky
DTSTAMP:20260605T143000Z
DTSTART:20260605T143000Z
DTEND:20260605T163000Z
DESCRIPTION:Výtvarný workshop zaměřený na tvorbu originální titulní strany pomocí embossingu. Vyzkoušíte si práci s reliéfem i vlastní kreativitu. Lektorka: Klára Tökölyová. Pozor! Je třeba si rezervovat místo na telefonním čísle +420 770 130 242\, e-mailu petriny@mlp.cz nebo osobně na pobočce.
LOCATION:Petřiny
URL;VALUE=URI:https://www.mlp.cz/cz/akce/tvorime-titulni-stranu-rodinneho-alba-ci-kroniky/6971
END:VEVENT
END:VCALENDAR