BEGIN:VCALENDAR
VERSION:2.0
PRODID:Spatie calendar-links
BEGIN:VEVENT
UID:mlp_6973
SUMMARY:Flamenco - Tyryty tran
DTSTAMP:20260619T173000Z
DTSTART:20260619T173000Z
DTEND:20260619T185000Z
DESCRIPTION:Jemný vánek od oceánu nese slanou vůni dálkami prosluněného Cádizu. Úzké uličky se noří do zlatého světla\, které se odráží od bílých fasád a tančí po tvářích kolemjdoucích. V rytmu kroků a smíchu se rozléhá zpěv – lehký\, hravý\, plný radosti. „Tyryty Tran…“ jako by se vznášelo ve vzduchu\, přirozeně\, bez tíhy\, jako tlukot srdce samotného města. Ženy se ladně ovívají vějíři\, jejich sukně kreslí do prostoru oblouky jako vlny na hladině moře. Každý krok\, každé tlesknutí\, každý pohled je oslavou života. Alegrías z Cádizu zde není jen tancem – je pocitem. Je sluncem na kůži\, pískem mezi prsty\, smíchem\, který přichází bez důvodu. Je radostí\, která se nedá zadržet – jen sdílet.\n„Tyryty Tran“ je pozváním do tohoto okamžiku. Do světa\, kde hudba vzniká z dechu\, pohyb z emocí a radost z pouhé existence.\n \nFlamenco Estudia Feliz\, taneční škola pod vedením Petry Šťastné\, působí v Praze již od roku 1998. Každoročně dává svým studentům a studentkám jedinečnou příležitost vstoupit na divadelní jeviště\, sdílet svou vášeň a prožít autentickou atmosféru flamenca. S jemností\, elegancí a respektem k tradici zde vzniká prostor\, kde se tanec stává osobním příběhem a každý krok nese vlastní význam.\nwww.estudio-feliz.cz
LOCATION:Ústřední knihovna (Velký sál)
URL;VALUE=URI:https://www.mlp.cz/cz/akce/flamenco-tyryty-tran/6973
END:VEVENT
END:VCALENDAR