BEGIN:VCALENDAR
VERSION:2.0
PRODID:Spatie calendar-links
BEGIN:VEVENT
UID:mlp_6975
SUMMARY:Karel Čapek - Válka s mloky
DTSTAMP:20260528T150000Z
DTSTART:20260528T150000Z
DTEND:20260528T163000Z
DESCRIPTION:Společnost bratří Čapků uvádí literární pásmo Karel Čapek - Válka s mloky \n"Budou také zkazky o potopených mytických zemích\, které prý byly kolébkou lidské kultury\; bude se třeba bájit o jakési Anglii nebo Francii nebo Německu…" \nLiterární pásmo SBČ sestavené z úryvků Čapkovy vědeckofantastické satiry o lidské chamtivosti\, egoismu\, krátkozrakosti a nepoučitelnosti lidstva. Další z Čapkových mrazivě přesných vizí apokalypsy lidstva. Varování nejen před fašistickým nebezpečím\, ale před ztrátou lidskosti a morálky ve jménu pokroku. \nPásmo sestavili: Alena Pěkná a Jiří Pešička Hudební doprovod Jiří Pešička.\nÚčinkují absolventi DAMU.
LOCATION:Ústřední knihovna (Malý sál)
URL;VALUE=URI:https://www.mlp.cz/cz/akce/karel-capek-valka-s-mloky/6975
END:VEVENT
END:VCALENDAR