BEGIN:VCALENDAR
VERSION:2.0
PRODID:Spatie calendar-links
BEGIN:VEVENT
UID:mlp_6977
SUMMARY:Výstava Devade
DTSTAMP:20260428T150000Z
DTSTART:20260428T150000Z
DTEND:20260428T170000Z
DESCRIPTION:Místo konámí: CAMP\, Vyšehradská 57\, Praha 2\nHotel Don Giovanni\, Tančící dům nebo úpravy Pražského hradu - to jsou legendární architektonické realizace 90. let. Oddělení pragensií vás zve na komentovanou prohlídku výstavy v Centru architektury a městského plánování. Zažijte s námi výpravu do období\, kdy v Praze vznikla spousta obdivovaných i kontroverzních staveb.\nPozor! Je třeba si rezervovat místo na telefonním čísle +420 222 113 555.
LOCATION:Ústřední knihovna (CAMP\, Vyšehradská 57\, Praha 2)
URL;VALUE=URI:https://www.mlp.cz/cz/akce/vystava-devade/6977
END:VEVENT
END:VCALENDAR