BEGIN:VCALENDAR
VERSION:2.0
PRODID:Spatie calendar-links
BEGIN:VEVENT
UID:mlp_6981
SUMMARY:Zmrzlina
DTSTAMP:20260617T130000Z
DTSTART:20260617T130000Z
DTEND:20260617T150000Z
DESCRIPTION:Vyrobte si vlastní sladkou radost! Vyrobte si z papíru barevnou kopečkovou zmrzlinu v kornoutku. Tvoření pro malé i velké mlsouny – fantazii se meze nekladou!
LOCATION:Barrandov
URL;VALUE=URI:https://www.mlp.cz/cz/akce/zmrzlina/6981
END:VEVENT
END:VCALENDAR