BEGIN:VCALENDAR
VERSION:2.0
PRODID:Spatie calendar-links
BEGIN:VEVENT
UID:mlp_6983
SUMMARY:Proměny francouzského šansonu II. 
DTSTAMP:20260521T160000Z
DTSTART:20260521T160000Z
DTEND:20260521T173000Z
DESCRIPTION:Audiovizuální pořad z cyklu Francouzské wichytávky Františka Wicha\nAudiovizuální večer z cyklu Francouzské wichytávky Františka Wicha vás již podruhé zavede do světa šansonu\, který zdaleka není jen nostalgickým ohlédnutím za Edith Piaf. František Wich\, znalec frankofonní hudby\, představí šanson jako živý a proměnlivý žánr\, který se v průběhu desetiletí vyvíjel od kavárenské poetiky až po současné fúze s jazzem\, elektronikou či alternativou. Těšit se můžete na neotřelé hudební ukázky\, příběhy výrazných osobností i méně známých tváří a atmosféru\, která vás přenese do pařížských klubů i na festivalová pódia. Přijďte objevit šanson jinak – bez patosu\, ale s vášní.\n„Doktor rokenrolových věd“\, hudební publicista a rozhlasový redaktor František Wich\, působil v rozhlasových stanicích Profil Pardubice\, OK Hradec Králové\, Hey!\, Color nebo Rádio Orlicko. Publikoval v hudebních časopisech a mimo jiné je i autorem obsáhlé Rock & pop encyklopedie. Posledních téměř deset let se soustavně věnuje frankofonní populární hudbě.\nMohlo by vás zajímat\nhttps://www.facebook.com/frantisek.wich/
LOCATION:Ústřední knihovna (Hudební oddělení)
URL;VALUE=URI:https://www.mlp.cz/cz/akce/promeny-francouzskeho-sansonu-ii/6983
END:VEVENT
END:VCALENDAR