BEGIN:VCALENDAR
VERSION:2.0
PRODID:Spatie calendar-links
BEGIN:VEVENT
UID:mlp_7003
SUMMARY:Přednáška filatelistů: holubí pošta
DTSTAMP:20260507T143000Z
DTSTART:20260507T143000Z
DTEND:20260507T153000Z
DESCRIPTION:Zveme vás na zajímavou filatelistickou přednášku. O holubí poště přednáší ing. Tomáš Šilhán.
LOCATION:Sedmička
URL;VALUE=URI:https://www.mlp.cz/cz/akce/prednaska-filatelistu-holubi-posta/7003
END:VEVENT
END:VCALENDAR