BEGIN:VCALENDAR
VERSION:2.0
PRODID:Spatie calendar-links
BEGIN:VEVENT
UID:mlp_7007
SUMMARY:Ve stopách Milana Kundery
DTSTAMP:20260512T160000Z
DTSTART:20260512T160000Z
DTEND:20260512T173000Z
DESCRIPTION:Knižní kavárna aneb Pokec\nVe stopách Milana Kundery: Češi píšící i ve francouzštině. Hosty květnové kavárny budou spisovatelé Veronika Valentová a Martin Daneš. Moderuje: Radka Tesárková.
LOCATION:Sedmička
URL;VALUE=URI:https://www.mlp.cz/cz/akce/ve-stopach-milana-kundery/7007
END:VEVENT
END:VCALENDAR