BEGIN:VCALENDAR
VERSION:2.0
PRODID:Spatie calendar-links
BEGIN:VEVENT
UID:mlp_7009
SUMMARY:Festival Dobrých knih na Sedmičce: květen 2026
DTSTAMP:20260526T153000Z
DTSTART:20260526T153000Z
DTEND:20260526T173000Z
DESCRIPTION:Opět vás zveme na besedu se známými autorkami. Účast přislíbily: Jana Poncarová\, Barbara Linke a Miriam Blahová. Moderuje Oldřich Suchý. \nPozor! Je třeba si rezervovat místo na e-mailové adrese: marketing@dobre-knihy.cz .
LOCATION:Sedmička
URL;VALUE=URI:https://www.mlp.cz/cz/akce/festival-dobrych-knih-na-sedmicce-kveten-2026/7009
END:VEVENT
END:VCALENDAR