BEGIN:VCALENDAR
VERSION:2.0
PRODID:Spatie calendar-links
BEGIN:VEVENT
UID:mlp_7018
SUMMARY:Michael
DTSTAMP:20260504T170000Z
DTSTART:20260504T170000Z
DTEND:20260504T200000Z
DESCRIPTION:Bio Skeptik \nMichael \n(USA 2026\, Antoine Fuqua\, české tit.\, 125 min.\, od 12 let) \nKariéra krále popu od prvních krůčků v rodinném seskupení Jackson Five\, v němž od počátku prokazoval největší talent\, přestože byl v domácí kapele nejmladší. Čím dál populárnější seskupení vede pevnou rukou táta Joe (Colman Domingo)\, na křehkého Michaela možná až příliš pevnou. Když kolem Jackson Five začnou kroužit hudební producenti\, všichni si okamžitě uvědomí\, že Michael je tím nejhodnotnějším prvkem skupiny\, a ti nejodvážnější z nich začnou dokonce mluvit o tom\, že by jeho kariéře nejvíc prospělo\, kdyby se osamostatnil. Joe\, despotický otec a tvrdý manažer v jednom\, o tom samozřejmě nechce ani slyšet. Jenže i Michael touží jít dál svou vlastní cestou. A tak se u Jacksonů rozhostí ticho před bouří\, v níž se zrodí jedna hudební legenda a pár nejlepších písní v dějinách populární hudby. Diskuse s filmovým publicistou Martinem Svobodou.
LOCATION:Ústřední knihovna (Velký sál)
URL;VALUE=URI:https://www.mlp.cz/cz/akce/michael/7018
END:VEVENT
END:VCALENDAR