BEGIN:VCALENDAR
VERSION:2.0
PRODID:Spatie calendar-links
BEGIN:VEVENT
UID:mlp_7020
SUMMARY:Šťastná hvězda
DTSTAMP:20260505T140000Z
DTSTART:20260505T140000Z
DTEND:20260505T160000Z
DESCRIPTION:Bio Senior \nŠťastná hvězda \n(La Bonne étoile\, Francie 2025\, Pascal Elbé\, české tit.\, 102 min.\, od 12 let) \nFrancie\, rok 1940. Jean Chevalin stráví ve válce přesně jeden den\, pak se rozhodne dezertovat. V zoufalství vymyslí plán\, který je stejně absurdní jako riskantní: vydávat se za Žida\, aby získal pomoc převaděčů a dostal se do svobodné zóny. Tento podvod je zavede na cestu plnou nedorozumění\, odhalení a emocí\, na které Jean postupně objeví hodnotu solidarity a absurditu svých předsudků. Na pomezí historické frašky kombinuje film komedii a drama\, aby se zamyslel nad zbabělostí a odvahou v době války. Film hraje na kontrasty mezi absurditou nesmyslného plánu a vážností situace a zároveň nabízí univerzální reflexi lidské důstojnosti. \nNa projekce Filmového klubu MKP\, Filmového klubu Bio Senior a Filmového klubu Bio Fajnšmekr s platnou legitimací Filmového klubu sleva 20 Kč. Cena legitimace 120 Kč (platí do 31. 12. 2026)\, k prodeji v pokladně MKP.
LOCATION:Ústřední knihovna (Velký sál)
URL;VALUE=URI:https://www.mlp.cz/cz/akce/stastna-hvezda-0/7020
END:VEVENT
END:VCALENDAR