BEGIN:VCALENDAR
VERSION:2.0
PRODID:Spatie calendar-links
BEGIN:VEVENT
UID:mlp_7022
SUMMARY:Nevděčné bytosti 
DTSTAMP:20260505T170000Z
DTSTART:20260505T170000Z
DTEND:20260505T190000Z
DESCRIPTION:Filmový klub \nNevděčné bytosti \n(ČR - Slovi. - Pol. 2025\, Olmo Omerzu\, české tit.\, 110 min.\, od 15 let) \nSedmnáctiletá Klára a její mladší bratr Teo žijí v bilingvní rodině\, jejich rodiče David a Laura se ovšem před nedávnem rozešli. David se rozhodne vzít děti k Jadranu a zapracovat na vzájemném vztahu. To\, co vypadá jako pokus o rodinnou idylu\, postupně odkrývá hlubší problémy - především u Kláry\, potýkající se s poruchou příjmu potravy. Napětí narůstá\, když do jejího života vstoupí místní mladík Denis. Situace nečekanými okolnostmi graduje až k předčasnému návratu domů a Klářině hospitalizaci. Záchrana Klářina života je to jediné\, co drží její rodiče pohromadě. A zoufalá situace si žádá zoufalé řešení. \nNa projekce Filmového klubu MKP\, Filmového klubu Bio Senior a Filmového klubu Bio Fajnšmekr s platnou legitimací Filmového klubu sleva 20 Kč. Cena legitimace 120 Kč (platí do 31. 12. 2026)\, k prodeji v pokladně MKP.
LOCATION:Ústřední knihovna (Velký sál)
URL;VALUE=URI:https://www.mlp.cz/cz/akce/nevdecne-bytosti-1/7022
END:VEVENT
END:VCALENDAR