BEGIN:VCALENDAR
VERSION:2.0
PRODID:Spatie calendar-links
BEGIN:VEVENT
UID:mlp_7024
SUMMARY:Někdo to rád v Plzni
DTSTAMP:20260512T140000Z
DTSTART:20260512T140000Z
DTEND:20260512T160000Z
DESCRIPTION:Bio Senior \nNěkdo to rád v Plzni \n(ČR 2026\, Martin Horský\, 100 min.) \nRázovití hrdinové různých věků\, povah\, profesí a zálib hledají štěstí\, jen každý jinde a s jiným výsledkem. Kamarádky z pivovaru se pokoušejí najít muže svých snů pomocí vzkazu v láhvi\, zoufalému mladíkovi nasadí parohy vlastní bratr\, dva samotáře propojí sprostý papoušek\, svérázný vynálezce bojuje s osudovou věštbou\, manžele s příchodem padesátky zaskočí nečekané sexuální fantazie\, svůdník s talentem na plození dvojčat přivede do jiného stavu přítelkyni i milenku\, dívka v nesnázích pronajímá dělohu bohatému páru\, emigrant se vrací do vlasti hledat dávnou lásku. Doplňuje je stoletý cyklista na cestě kolem světa\, bachař\, kterého si jeho "oblíbený" vězeň najde i po propuštění\, nebo vášnivý kuželkář a ještě vášnivější domácí nudista. Někdo z nich najde lásku\, jiný nečekané přátelství\, dalšímu nějaké překvapení přinese vychlazená dvanáctka nebo padající hvězda. \nNa projekce Filmového klubu MKP\, Filmového klubu Bio Senior a Filmového klubu Bio Fajnšmekr s platnou legitimací Filmového klubu sleva 20 Kč. Cena legitimace 120 Kč (platí do 31. 12. 2026)\, k prodeji v pokladně MKP.
LOCATION:Ústřední knihovna (Velký sál)
URL;VALUE=URI:https://www.mlp.cz/cz/akce/nekdo-rad-v-plzni/7024
END:VEVENT
END:VCALENDAR