BEGIN:VCALENDAR
VERSION:2.0
PRODID:Spatie calendar-links
BEGIN:VEVENT
UID:mlp_7026
SUMMARY:Tajný agent
DTSTAMP:20260512T170000Z
DTSTART:20260512T170000Z
DTEND:20260512T200000Z
DESCRIPTION:Filmový klub \nTajný agent \n(O Agente Secreto\, Brazílie 2025\, K. M. Filho\, české tit.\, 158 min.\, od 12 let) Brazílie\, 1977. \nZatímco zemi svírá vojenská diktatura\, ulice zaplavuje karnevalová euforie. Technologický expert Marcelo je na útěku. Věří\, že v přímořském městě Recife najde útočiště pro bezpečný život se svým malým synem. Brzy ale zjišťuje\, že je pronásledován nájemnými zabijáky a každý krok může být jeho posledním. Napínavý politický thriller mísí znepokojivou atmosféru 70. let s nespoutaným brazilským temperamentem a silným osobním příběhem otce bojujícího o rodinu i přežití. \nNa projekce Filmového klubu MKP\, Filmového klubu Bio Senior a Filmového klubu Bio Fajnšmekr s platnou legitimací Filmového klubu sleva 20 Kč. Cena legitimace 120 Kč (platí do 31. 12. 2026)\, k prodeji v pokladně MKP.
LOCATION:Ústřední knihovna (Velký sál)
URL;VALUE=URI:https://www.mlp.cz/cz/akce/tajny-agent/7026
END:VEVENT
END:VCALENDAR