BEGIN:VCALENDAR
VERSION:2.0
PRODID:Spatie calendar-links
BEGIN:VEVENT
UID:mlp_7028
SUMMARY:Tajemství sýkorek
DTSTAMP:20260516T110000Z
DTSTART:20260516T110000Z
DTEND:20260516T123000Z
DESCRIPTION:Bio Junior \nTajemství sýkorek \n(Le Secret des mésanges\, Francie 2025\, Antoine Lanciaux\, český dabing\, 77 min.) \nKdyž devítiletá Lucie přijíždí na prázdniny do Bectoile\, netuší\, jaké dobrodružství ji tu čeká. Její maminka Caro v městečku vyrostla a teď tu se svým kolegou Pierrotem provádí archeologické vykopávky. Městečko a jeho okolí ovšem skrývají pozůstatky minulosti ve více než jednom smyslu. Je tu také rodinné tajemství a Lucie se svým novým kamarádem Yannem a párem podivuhodných sýkorek je odhodlaná ho odhalit. Její cesta vede od sklepů zříceniny gotického hradu až ke starému zapomenutému karavanu na okraji lesa a je to cesta plná úžasných překvapení a objevů!
LOCATION:Ústřední knihovna (Velký sál)
URL;VALUE=URI:https://www.mlp.cz/cz/akce/tajemstvi-sykorek/7028
END:VEVENT
END:VCALENDAR