BEGIN:VCALENDAR
VERSION:2.0
PRODID:Spatie calendar-links
BEGIN:VEVENT
UID:mlp_7030
SUMMARY:Super Mario galaktický film
DTSTAMP:20260516T130000Z
DTSTART:20260516T130000Z
DTEND:20260516T150000Z
DESCRIPTION:Bio Junior \nSuper Mario galaktický film \n(The Super Mario Galaxy Movie\, USA - Jap. 2026\, A. Horvath\, M. Jelenic\, český dabing\, 98 min.) \nKdyž kníratí bráchové v jedničce zachránili rozkošnou princeznu Peach před zlým veleještěrem Bowserem\, kterého proměnili v "maloještěra" a neškodného domácího mazlíčka\, mysleli si\, že mají hotovo. Jenže videoherní fandové\, kteří svět Super Mario Bros. dobře znají\, vědí\, že se v něm vyskytuje pár dalších jedinců schopných škodit. Jako například Bowser junior\, kterému osud tatíka není vůbec lhostejný. Kromě jeho záchrany by rád s Luigim a Mariem srovnal účty\, protože z krále mocné rasy Koopů si nikdo srandu dělat nebude. Zkrátka\, oba instalatéři budou muset znovu navléct montérky a začít makat.
LOCATION:Ústřední knihovna (Velký sál)
URL;VALUE=URI:https://www.mlp.cz/cz/akce/super-mario-galakticky-film/7030
END:VEVENT
END:VCALENDAR