BEGIN:VCALENDAR
VERSION:2.0
PRODID:Spatie calendar-links
BEGIN:VEVENT
UID:mlp_7032
SUMMARY:Drama
DTSTAMP:20260519T140000Z
DTSTART:20260519T140000Z
DTEND:20260519T160000Z
DESCRIPTION:Bio Senior \nDrama \n(USA 2026\, Kristoffer Borgli\, české tit.\, 106 min.\, od 15 let) \nZdánlivě dokonalý pár je týden před svatbou vystaven nečekané zkoušce. K jednomu ze snoubenců totiž doputují o jeho partnerovi poměrně znepokojivé informace. Hrají Robert Pattinson\, Zendaya\, Alana Haim\, Hailey Gates a další. \nNa projekce Filmového klubu MKP\, Filmového klubu Bio Senior a Filmového klubu Bio Fajnšmekr s platnou legitimací Filmového klubu sleva 20 Kč. Cena legitimace 120 Kč (platí do 31. 12. 2026)\, k prodeji v pokladně MKP.
LOCATION:Ústřední knihovna (Velký sál)
URL;VALUE=URI:https://www.mlp.cz/cz/akce/drama-0/7032
END:VEVENT
END:VCALENDAR