BEGIN:VCALENDAR
VERSION:2.0
PRODID:Spatie calendar-links
BEGIN:VEVENT
UID:mlp_7034
SUMMARY:Dva prokurátoři
DTSTAMP:20260519T170000Z
DTSTART:20260519T170000Z
DTEND:20260519T193000Z
DESCRIPTION:Filmový klub \nDva prokurátoři \n(Deux procureurs\, Francie - Něm. - Niz 2025\, Sergej Loznica\, české tit.\, 117 min.\, od 12 let) \nV roce 1937 v Sovětském svazu Stalin tvrdě upevňuje svou moc. Desítky tisíc falešně odsouzených občanů jsou drženy v nelidských podmínkách. Své naděje vkládají do vězeňských motáků. Navzdory tvrdým kontrolám se jeden ze vzkazů dostane k mladému ambicióznímu žalobci Alexandru Korněvovi. S hlavou plnou ideálů a mladickou sveřepostí se v době nejtvrdších stalinistických čistek Korněv vydává vstříc děsivému prozření. \nNa projekce Filmového klubu MKP\, Filmového klubu Bio Senior a Filmového klubu Bio Fajnšmekr s platnou legitimací Filmového klubu sleva 20 Kč. Cena legitimace 120 Kč (platí do 31. 12. 2026)\, k prodeji v pokladně MKP.
LOCATION:Ústřední knihovna (Velký sál)
URL;VALUE=URI:https://www.mlp.cz/cz/akce/dva-prokuratori/7034
END:VEVENT
END:VCALENDAR