BEGIN:VCALENDAR
VERSION:2.0
PRODID:Spatie calendar-links
BEGIN:VEVENT
UID:mlp_7038
SUMMARY:Šampión
DTSTAMP:20260526T170000Z
DTSTART:20260526T170000Z
DTEND:20260526T193000Z
DESCRIPTION:Filmový klub \nŠampión \n(Slovensko - ČR 2026\, Jakub Červenka\, české tit.\, 90 min.) \nMistrovství světa v krasobruslení v roce 1973 v Bratislavě bylo pro komunistické Československo událostí mimořádného významu. Dnes už víme\, kdo tehdy zvítězil: Ondrej Nepela\, fenomenální sportovec\, jehož jméno bylo známé po celém světě. Během závěrečné přípravy na mistrovství bojuje Ondrej nejen s režimem\, ale především sám se sebou. Krátce před rozhodující jízdou ho ochromí strach a Hilda Múdra musí najít způsob\, jak ho znovu postavit na nohy. Film zachycuje rozhodující okamžiky a naznačuje\, proč mistr světa na zrnitých záběrech z Bratislavy neslaví\, přestože právě dosáhl svého životního triumfu. Po projekci diskuse s režisérem Jakubem Červenkou. \nNa projekce Filmového klubu MKP\, Filmového klubu Bio Senior a Filmového klubu Bio Fajnšmekr s platnou legitimací Filmového klubu sleva 20 Kč. Cena legitimace 120 Kč (platí do 31. 12. 2026)\, k prodeji v pokladně MKP.
LOCATION:Ústřední knihovna (Velký sál)
URL;VALUE=URI:https://www.mlp.cz/cz/akce/sampion/7038
END:VEVENT
END:VCALENDAR