BEGIN:VCALENDAR
VERSION:2.0
PRODID:Spatie calendar-links
BEGIN:VEVENT
UID:mlp_7040
SUMMARY:Neděle
DTSTAMP:20260527T170000Z
DTSTART:20260527T170000Z
DTEND:20260527T200000Z
DESCRIPTION:Film a spiritualita \nNeděle \n(Los domingos\, Španělsko 2025\, Alauda Ruiz de Azúa\, české tit.\, 115 min.\, od 12 let) \nIntimní rodinné drama vypráví o dospívání\, víře a hledání vlastního místa ve světě. Sleduje\, jak se dosud klidné rodinné zázemí mění v prostor napětí\, pochybností a konfrontace s otázkou\, co znamená skutečně dospět. Je vůbec možné učinit tak zásadní rozhodnutí\, jakým je vstup do kláštera\, bez pochopení okolí? Příběh se soustředí na vztah rodičů a dcery\, na sílu rodinných vazeb i na jejich křehkost v okamžiku\, kdy se osobní přesvědčení střetne s realitou každodenního života. Ve spolupráci s Akademickou farností Praha\, uvádí Lukáš Jirsa.
LOCATION:Ústřední knihovna (Velký sál)
URL;VALUE=URI:https://www.mlp.cz/cz/akce/nedele/7040
END:VEVENT
END:VCALENDAR