BEGIN:VCALENDAR
VERSION:2.0
PRODID:Spatie calendar-links
BEGIN:VEVENT
UID:mlp_7042
SUMMARY:Pět švestek
DTSTAMP:20260528T170000Z
DTSTART:20260528T170000Z
DTEND:20260528T190000Z
DESCRIPTION:Premiéra \nPět švestek \n(ČR 2026\, Jan Svěrák\, 100 min.) \nKomedie o dvou rebelujících stařenkách a třech stařících\, kteří se vydají na moře bez dozoru dospělých. Hrají Lenka Termerová\, Oldřich Kaiser\, Petr Kostka\, Jan Vlasák\, Dana Syslová\, Petra Špalková a Petr Lněnička.
LOCATION:Ústřední knihovna (Velký sál)
URL;VALUE=URI:https://www.mlp.cz/cz/akce/pet-svestek/7042
END:VEVENT
END:VCALENDAR