BEGIN:VCALENDAR
VERSION:2.0
PRODID:Spatie calendar-links
BEGIN:VEVENT
UID:mlp_7044
SUMMARY:Tudy povede cesta 
DTSTAMP:20260511T170000Z
DTSTART:20260511T170000Z
DTEND:20260511T193000Z
DESCRIPTION:Bio Fajnšmekr \nTudy povede cesta \n(Ovuda će proći put\, Srbsko 2023\, Nina Ognjanovic\, české tit.\, 81 min.\, od 15 let) \nDo malé zapomenuté srbské vesničky vysoko v horách přijíždí cizinec. Nikdo jej nezval\, nikdo ho nezná\, jeho návštěva je tak pro všechny jednou velkou záhadou. Starousedlíci jsou vůči němu plni nedůvěry. Bojí se jakýchkoliv změn\, které by mohly narušit jejich každodenní rutinu. Proč vůbec přijel a co tady hledá? Je tam snad kvůli dálnici\, která se nedaleko staví? Anebo přijel kvůli něčemu jinému? Dusná atmosféra ve vesnici je umocňována nesnesitelným vedrem a zvláštním chováním dvou podivínů. Všichni venkované jsou zde spokojeni\, jen osmnáctiletá Jana si nepřeje nic jiného\, než toto místo navždy opustit. Diskusi moderuje Vít Zapletal. \nNa projekce Filmového klubu MKP\, Filmového klubu Bio Senior a Filmového klubu Bio Fajnšmekr s platnou legitimací Filmového klubu sleva 20 Kč. Cena legitimace 120 Kč (platí do 31. 12. 2026)\, k prodeji v pokladně MKP.
LOCATION:Ústřední knihovna (Malý sál)
URL;VALUE=URI:https://www.mlp.cz/cz/akce/tudy-povede-cesta/7044
END:VEVENT
END:VCALENDAR