BEGIN:VCALENDAR
VERSION:2.0
PRODID:Spatie calendar-links
BEGIN:VEVENT
UID:mlp_7046
SUMMARY:EPiC: Elvis Presley in Concert
DTSTAMP:20260505T163000Z
DTSTART:20260505T163000Z
DTEND:20260505T183000Z
DESCRIPTION:EPiC: Elvis Presley in Concert \n(Austrálie - USA 2025\, Baz Luhrmann\, české tit.\, 96 min.) \nNa sklonku šedesátých let vyrazil Elvis Presley do Las Vegas\, aby tu odehrál pár koncertů. Permanentně vyprodané sály mu ale zásadně změnily plány\, takže se několik málo týdnů protáhlo na neuvěřitelných sedm let. Režisér Baz Luhrmann nalezené záběry z tohoto období využil k natočení působivého hudebního zážitku\, v němž se ty největší Elvisovy hity střídají s unikántními záběry ze zákulisí\, v nichž umělce poznáte nejen jako muzikanta\, ale především jako lidskou bytost.
LOCATION:Petřiny (Sál Petřiny)
URL;VALUE=URI:https://www.mlp.cz/cz/akce/epic-elvis-presley-concert-1/7046
END:VEVENT
END:VCALENDAR