BEGIN:VCALENDAR
VERSION:2.0
PRODID:Spatie calendar-links
BEGIN:VEVENT
UID:mlp_7050
SUMMARY:Přání k narozeninám: Křtiny
DTSTAMP:20260514T140000Z
DTSTART:20260514T140000Z
DTEND:20260514T160000Z
DESCRIPTION:Přání k narozeninám: Křtiny \n(ČR 2026\, Marta Ferencová\, 101 min.) \nV domě Líby (Eva Holubová) a Arnošta (Jaroslav Dušek) vrcholí přípravy na křtiny\, které mají proběhnout přesně podle Líbina detailního plánu - včetně volby jména dítěte. Nic však nejde podle očekávání: snacha Simona (Simona Babčáková) zvolí tajně jiné jméno\, Arnošt se zaplete do "detektivního" pátrání po ztracených klíčích a domnělé krádeže\, zatímco Karel (Matěj Hádek) a jeho kamarád Richard (Jaroslav Plesl) řeší nedorozumění ve zlatnictví. Chaos ještě znásobí zmatená prodavačka Vlastička (Anna Polívková)\, která ztratila paměť. S blížícím se dnem křtu vyplouvají na povrch tajemství\, identity se vyjasňují a rodinné vztahy procházejí zatěžkávací zkouškou.
LOCATION:Petřiny (Sál Petřiny)
URL;VALUE=URI:https://www.mlp.cz/cz/akce/prani-k-narozeninam-krtiny/7050
END:VEVENT
END:VCALENDAR