BEGIN:VCALENDAR
VERSION:2.0
PRODID:Spatie calendar-links
BEGIN:VEVENT
UID:mlp_7056
SUMMARY:Bláznivý Marsupilami 
DTSTAMP:20260516T130000Z
DTSTART:20260516T130000Z
DTEND:20260516T150000Z
DESCRIPTION:Bláznivý Marsupilami \n(Marsupilami\, Francie 2026\, Philippe Lacheau\, český dabing\, 99 min.) \nAby si udržel práci v zoo\, souhlasí David s riskantním plánem\, že přiveze z Jižní Ameriky záhadný balíček. Musí přitom dodržet tři zdánlivě jednoduchá pravidla: zásilku neotvírat\, opatrovat jako oko v hlavě a být při jejím převozu do Francie co nejméně nápadný. Jako by přitěžujících okolností nebylo už tak dost\, v rámci utajení musí plavbu na zaoceánské lodi podniknout se svou bývalou partnerkou Tess\, jejich malým synem Leem a nešikovným a trochu natvrdlým kolegou Stéphanem. Právě ten všemu nasadí korunu\, když jedno z pravidel poruší a krabici s tajemným obsahem omylem otevře. Uvnitř se skrývá roztomilé mládě Marsupilamiho\, vzácného a taky mimořádně roztomilého tvora neznámého původu\, jehož druhé jméno je ne náhodou bláznivý. Rázem berou za své i zbylá dvě pravidla\, už tak ulítlá výprava se stává ještě ulítlejší a Marsupilami nekorunovaným králem všudypřítomného chaosu. Kromě něj s sebou ale přináší nespoutanou energii a řadu vtipných situací\, které nutí Davida\, Tess a Lea spolupracovat\, což by sami nedokázali. Nečekané dobrodružství tak nakonec otevře nové obzory všem a ukáže nejen dosud nepoznané kouty světa\, ale i sílu rodinných pout.
LOCATION:Petřiny (Sál Petřiny)
URL;VALUE=URI:https://www.mlp.cz/cz/akce/blaznivy-marsupilami-0/7056
END:VEVENT
END:VCALENDAR