BEGIN:VCALENDAR
VERSION:2.0
PRODID:Spatie calendar-links
BEGIN:VEVENT
UID:mlp_7058
SUMMARY:Hlas Hind Radžab
DTSTAMP:20260519T163000Z
DTSTART:20260519T163000Z
DTEND:20260519T180000Z
DESCRIPTION:Hlas Hind Radžab \n(Sawt al-Hind Rajab\, Tunisko - Fr. 2025\, Kaouther Ben Hania\, české tit.\, 89 min.\, od 15 let) \n29. ledna 2024. Dobrovolníci Červeného půlměsíce přijímají tísňové volání. Šestiletá dívka uvízla v autě pod palbou v Gaze a prosí o záchranu. Zatímco se ji snaží udržet na lince\, dělají vše\, co je v jejich silách\, aby k ní dostali sanitku. Jmenovala se Hind Radžab.
LOCATION:Petřiny (Sál Petřiny)
URL;VALUE=URI:https://www.mlp.cz/cz/akce/hlas-hind-radzab-0/7058
END:VEVENT
END:VCALENDAR