BEGIN:VCALENDAR
VERSION:2.0
PRODID:Spatie calendar-links
BEGIN:VEVENT
UID:mlp_7062
SUMMARY:Tajný agent
DTSTAMP:20260521T163000Z
DTSTART:20260521T163000Z
DTEND:20260521T190000Z
DESCRIPTION:Tajný agent \n(O Agente Secreto\, Brazílie 2025\, K. M. Filho\, české tit.\, 158 min.\, od 12 let) \nBrazílie\, 1977. Zatímco zemi svírá vojenská diktatura\, ulice zaplavuje karnevalová euforie. Technologický expert Marcelo je na útěku. Věří\, že v přímořském městě Recife najde útočiště pro bezpečný život se svým malým synem. Brzy ale zjišťuje\, že je pronásledován nájemnými zabijáky a každý krok může být jeho posledním. Napínavý politický thriller mísí znepokojivou atmosféru 70. let s nespoutaným brazilským temperamentem a silným osobním příběhem otce bojujícího o rodinu i přežití.
LOCATION:Petřiny (Sál Petřiny)
URL;VALUE=URI:https://www.mlp.cz/cz/akce/tajny-agent-0/7062
END:VEVENT
END:VCALENDAR