BEGIN:VCALENDAR
VERSION:2.0
PRODID:Spatie calendar-links
BEGIN:VEVENT
UID:mlp_7066
SUMMARY:Šepot lesa
DTSTAMP:20260523T130000Z
DTSTART:20260523T130000Z
DTEND:20260523T143000Z
DESCRIPTION:Šepot lesa \n(Le Chant des forets\, Francie 2025\, Vincent Munier\, český dabing\, 95 min.) \nV srdci tichých lesů\, kde se v ranní mlze ztrácí stopy rysů\, medvědů a jelenů\, se režisér vydává se svým otcem a synem na cestu za dobrodružstvím. Nesnaží se zachytit jen vizuální krásu krajiny\, ale i šepot lesa. Každé zašustění listí\, každý vzdálený zpěv ptáka či prasknutí větve je ozvěnou dávné moudrosti\, kterou mu kdysi předal jeho otec a on se ji teď snaží předat dál svému synovi. Dokumentární film spojuje dechberoucí obrazy přírody s hudbou ticha\, aby vytvořil pohádkový zážitek\, jenž zpomalí čas a otevře prostor pro vnímání. Šepot lesa je dojemné vyznání lásky k otci\, synovi a přírodě. Vizuální báseň\, která propojuje generace a zve nás\, abychom znovu slyšeli\, jak mluví les.
LOCATION:Petřiny (Sál Petřiny)
URL;VALUE=URI:https://www.mlp.cz/cz/akce/sepot-lesa/7066
END:VEVENT
END:VCALENDAR