BEGIN:VCALENDAR
VERSION:2.0
PRODID:Spatie calendar-links
BEGIN:VEVENT
UID:mlp_7072
SUMMARY:Šampión
DTSTAMP:20260528T163000Z
DTSTART:20260528T163000Z
DTEND:20260528T180000Z
DESCRIPTION:Šampión \n(Slovensko - ČR 2026\, Jakub Červenka\, české tit.\, 90 min.) \nMistrovství světa v krasobruslení v roce 1973 v Bratislavě bylo pro komunistické Československo událostí mimořádného významu. Dnes už víme\, kdo tehdy zvítězil: Ondrej Nepela\, fenomenální sportovec\, jehož jméno bylo známé po celém světě. Během závěrečné přípravy na mistrovství bojuje Ondrej nejen s režimem\, ale především sám se sebou. Krátce před rozhodující jízdou ho ochromí strach a Hilda Múdra musí najít způsob\, jak ho znovu postavit na nohy. Film zachycuje rozhodující okamžiky a naznačuje\, proč mistr světa na zrnitých záběrech z Bratislavy neslaví\, přestože právě dosáhl svého životního triumfu.
LOCATION:Petřiny (Sál Petřiny)
URL;VALUE=URI:https://www.mlp.cz/cz/akce/sampion-0/7072
END:VEVENT
END:VCALENDAR