BEGIN:VCALENDAR
VERSION:2.0
PRODID:Spatie calendar-links
BEGIN:VEVENT
UID:mlp_7078
SUMMARY:Tvořivé dílny na Chodově
DTSTAMP:20260513T130000Z
DTSTART:20260513T130000Z
DTEND:20260513T143000Z
DESCRIPTION:Kreativní dílny pro děti\nJaro volá k tvoření! Přijďte si s dětmi vyrobit veselého panáčka travňáčka – jednoduché\, hravé: silikonka\, piliny\, semínka\, trocha legrace a výsledkem je živý kamarád v květináči. Věk není omezen\, dílnička je vhodná pro děti i s rodiči. Je možné přijít kdykoliv v uvedeném čase. Materiál zajištěn.\nIlustrační obrázek: Imgur.com.
LOCATION:Chodov
URL;VALUE=URI:https://www.mlp.cz/cz/akce/tvorive-dilny-na-chodove/7078
END:VEVENT
END:VCALENDAR