BEGIN:VCALENDAR
VERSION:2.0
PRODID:Spatie calendar-links
BEGIN:VEVENT
UID:mlp_7080
SUMMARY:Austrálie - velká cesta
DTSTAMP:20260504T133000Z
DTSTART:20260504T133000Z
DTEND:20260504T153000Z
DESCRIPTION:Seniorské pondělky\nAutentické fotografie nás zavedou na Velkou oceánskou cestu\, která je na seznamu australského národního dědictví\, ale podíváme se i na významná moderní australská centra a jedinečné přírodní skvosty nejmenšího světadílu. Přednáší geograf RNDr. Jaroslav Líska.\nPozor! Je třeba si rezervovat místo na e-mailové adrese: jan.richter@mlp.cz.\nVstup volný do naplnění kapacity Zálivu.
LOCATION:Ústřední knihovna (Záliv)
URL;VALUE=URI:https://www.mlp.cz/cz/akce/australie-velka-cesta/7080
END:VEVENT
END:VCALENDAR