BEGIN:VCALENDAR
VERSION:2.0
PRODID:Spatie calendar-links
BEGIN:VEVENT
UID:mlp_7082
SUMMARY:Nejkrásnější zahrady severní Itálie
DTSTAMP:20260427T133000Z
DTSTART:20260427T133000Z
DTEND:20260427T150000Z
DESCRIPTION:Seniorské pondělky\nS Lenkou Bennerovou se vydáme k severoitalskému Lago di Como\, kde mezi horami a jezerem stojí slavné aristokratické vily obklopené nádhernými zahradami. Podíváme se\, jak se v mírném klimatu daří exotickým rostlinám a čím může inspirovat italská zahradní architektura. Během cesty do Itálie nás pak čeká ještě jedno malé překvapení...\nPozor! Je třeba si rezervovat místo na e-mailové adrese: jan.richter@mlp.cz.\nVstup volný do naplnění kapacity Zálivu.
LOCATION:Ústřední knihovna (Záliv)
URL;VALUE=URI:https://www.mlp.cz/cz/akce/nejkrasnejsi-zahrady-severni-italie/7082
END:VEVENT
END:VCALENDAR