BEGIN:VCALENDAR
VERSION:2.0
PRODID:Spatie calendar-links
BEGIN:VEVENT
UID:mlp_7096
SUMMARY:Radůza
DTSTAMP:20260924T173000Z
DTSTART:20260924T173000Z
DTEND:20260924T190000Z
DESCRIPTION:Její umělecká dráha připomíná některé "pohádkové" životopisy. Na ulici ji v roce 1993 objevila Zuzana Navarová a již tři dny na to zpívala ve svatyni českých zpěváků\, v pražské Lucerně. O pár týdnů později zde pak triumfovala jako "předskokanka" slavné americké písničkářky Susanne Vega\, o šest let později měla stejnou čest při koncertě Mikea Oldfielda. Od té doby vydala řadu velmi úspěšných sólových alb\, která bez jakékoliv reklamy lámou rekordy v prodejnosti\, získala několik zlatých Andělů a bodovala také v anketě Zlatý slavík. Díky své jedinečnosti a originálním písním\, čerpajících především z české tradice\, zaujala i publikum v zahraničí\, například Polsku a ve Francii. Radůza se zvládne doprovodit na několik hudebních nástrojů\, její zpěv hřmí\, ale i jemně vypráví dojemné příběhy. V říjnu 2023 v roce svého kulatého životního jubilea se rozhodla bilancovat a vydává dvojalbum nazvané Bylo nebylo\, které obsahuje výběr nejúspěšnějších písní\, jež složila v průběhu dosavadních třiceti let své hudební dráhy. Tentokrát nám představí za doprovodu Josefa Štěpánka (kytary) a Miloše Dvořáčka (bicí) průřez dosavadní tvorbou. \nVíce na: www.raduza.cz\nIlustrační foto Lenka Hatašová.
LOCATION:Ústřední knihovna (Velký sál)
URL;VALUE=URI:https://www.mlp.cz/cz/akce/raduza/7096
END:VEVENT
END:VCALENDAR