BEGIN:VCALENDAR
VERSION:2.0
PRODID:Spatie calendar-links
BEGIN:VEVENT
UID:mlp_7098
SUMMARY:Alegría
DTSTAMP:20260620T163000Z
DTSTART:20260620T163000Z
DTEND:20260620T173000Z
DESCRIPTION:Alegría je studentské představení "Influencia dance concept" Dity Kándlové. Představení zahrnuje choreografie od současného tance po tradiční flamenko včetně esencí. Naši taneční protagonisté jsou v různých věkových kategoriích i úrovních. Představení je doprovázeno projekcí malebných výtvarných děl profesionálů. Těšíme se na vás!
LOCATION:Ústřední knihovna (Velký sál)
URL;VALUE=URI:https://www.mlp.cz/cz/akce/alegria/7098
END:VEVENT
END:VCALENDAR