BEGIN:VCALENDAR
VERSION:2.0
PRODID:Spatie calendar-links
BEGIN:VEVENT
UID:mlp_7100
SUMMARY:Flamenkeando 2026
DTSTAMP:20260626T173000Z
DTSTART:20260626T173000Z
DTEND:20260626T183000Z
DESCRIPTION:Tento rok Akademie Danza Flamenca Virginia Delgado s hrdostí slaví 14. ročník Závěrečného festivalu\, již zavedené události\, která vzdává hold odhodlání a uměleckému růstu studentů flamenca. Během celého roku se studenti ponořili do techniky\, rytmu a výrazu\, které činí z flamenca jedinečné a univerzální umění. Pódium se naplní silou\, duende a autentičností a stane se prostorem\, kde se setkává vášeň\, disciplína a flamencová kultura. Bude to bezpochyby výjimečný večer\, který oslaví 13 let učení a umění.
LOCATION:Ústřední knihovna (Velký sál)
URL;VALUE=URI:https://www.mlp.cz/cz/akce/flamenkeando-2026/7100
END:VEVENT
END:VCALENDAR